BEGIN:VCALENDAR
VERSION:2.0
PRODID:-//Tukios.com/
BEGIN:VEVENT
UID:522e295f-6ab7-4b12-91da-e1ba3ead5dd8@www.weinsteinmortuary.com
DTSTAMP:20260425T035719Z
DTSTART:20260428T180000Z
DTEND:20260428T190000Z
SUMMARY:Graveside Service
DESCRIPTION:
URL:https://www.weinsteinmortuary.com/obituaries/judy-astman-goldberg
LOCATION:  Jackson Street  Avon CT 06001
GEO:41.8014744;-72.8409035
END:VEVENT
END:VCALENDAR